BEGIN:VCALENDAR
METHOD:PUBLISH
X-WR-TIMEZONE:Europe/Berlin
PRODID:https://www.siwitermine.de
CALSCALE:GREGORIAN
VERSION:2.0
BEGIN:VTIMEZONE
TZID:Europe/Berlin
BEGIN:DAYLIGHT
TZOFFSETFROM:+0100
TZOFFSETTO:+0200
DTSTART:19810329T020000
RRULE:FREQ=YEARLY;BYMONTH=3;BYDAY=-1SU
TZNAME:CEST
END:DAYLIGHT
BEGIN:STANDARD
TZOFFSETFROM:+0200
TZOFFSETTO:+0100
DTSTART:19961027T030000
RRULE:FREQ=YEARLY;BYMONTH=10;BYDAY=-1SU
TZNAME:CET
END:STANDARD
END:VTIMEZONE
BEGIN:VEVENT
LOCATION: Parkplatz hinter dem Restaurant Taverne Dautenbach Siegen | Tiefenbacher Straß
SUMMARY:Single-Wanderung | Gemeinsam den Beginn des Frühjahrs genießen
DESCRIPTION:Am Samstag, 28. März 2026, findet eine geführte Wanderung durch das Dautenbachtal in Siegen statt. Start ist um 14:30 Uhr am Parkplatz hinter der Taverne Dautenbach (Tiefenbacher Straße 2, 57076 Siegen). Die rund 8 Kilometer lange Strecke führt in etwa 2,5 Stunden durch das Dautenbachtal bis zur Zinsenbach-Quelle und verläuft überwiegend über Waldwege mit Ausblicken auf die umliegende Landschaft. Das Tempo ist moderat angelegt und ermöglicht unterwegs Gespräche in entspannter Atmosphäre. Im Anschluss an die Wanderung ist eine gemeinsame Einkehr in der Taverne Dautenbach vorgesehen. Details: Datum: Samstag, 28. März 2026 | Uhrzeit: 14:30 Uhr | Dauer: ca. 2,5 Stunden | Strecke: ca. 8 km | Kosten: 10 Euro pro Person | Hinweise: Eigener Becher für Getränke wird empfohlen | Selbstverpflegung während der Wanderung | Teilnahmegebühr bitte passend mitbringen | Begrenzte Teilnehmerzahl, Teilnahme nach Anmeldung Anmeldung: Telefonisch oder per WhatsApp sowie über ein Online-Anmeldeformular möglich. | Info: 0152/01752274 | https://www.siwitermine.de/62579 
UID:siwitermine/62579/2026-03-28  
CLASS:PUBLIC
DTSTART;TZID=Europe/Berlin:20260328T000000Z
DTEND;TZID=Europe/Berlin:20260328T000000Z
DTSTAMP:20260318T154808
END:VEVENT
END:VCALENDAR
