BEGIN:VCALENDAR
METHOD:PUBLISH
X-WR-TIMEZONE:Europe/Berlin
PRODID:https://www.siwitermine.de
CALSCALE:GREGORIAN
VERSION:2.0
BEGIN:VTIMEZONE
TZID:Europe/Berlin
BEGIN:DAYLIGHT
TZOFFSETFROM:+0100
TZOFFSETTO:+0200
DTSTART:19810329T020000
RRULE:FREQ=YEARLY;BYMONTH=3;BYDAY=-1SU
TZNAME:CEST
END:DAYLIGHT
BEGIN:STANDARD
TZOFFSETFROM:+0200
TZOFFSETTO:+0100
DTSTART:19961027T030000
RRULE:FREQ=YEARLY;BYMONTH=10;BYDAY=-1SU
TZNAME:CET
END:STANDARD
END:VTIMEZONE
BEGIN:VEVENT
LOCATION:Kulturhaus Lÿz | St.-Johann-Str. 18 | Siegen
SUMMARY:Kunst im Treppenhaus | RÄUME FÜR EIN KOLLEKTIVES MORGEN
DESCRIPTION:17.04.2026 bis 25.09.2026 | Mo. bis Fr., von 7 bis 18 Uhr | Fünf Projekte untersuchen verschiedene Orte der Stadt Siegen, ausgehend von konkreten Fragen zur Gestaltung und Zukunftsfähigkeit dieser Räume.Jedes Projekt skizziert hierbei eine Idee zur Weiterentwicklung. Im Mittelpunkt steht dabei die Frage, wie sich urbane Räume transformieren lassen, ohne ihre Geschichte zu verlieren. Gemeinsam zeichnen die Arbeiten das Bild einer Stadt, die nicht neu erfunden, sondern weitergedacht wird: als kollektiver Raum, der sich anpasst, verbindet und eine sozial-ökologische Zukunft ermöglicht. Die Ausstellung ist bis zum 25.09.26 von Mo. bis Fr., von 7 bis 18 Uhr im Treppenhaus des Kulturhauses Lÿz (Eingang C) in Siegen zu sehen. Der Ausstellungsinitiator - Gunter Affholderbach - dankt herzlich: Simon Neumayer, Cigdem Aydin, dem Stadt- & Regionallabor fusion lab, den beteiligten Architekt:innen sowie den Verantwortlichen und Mitarbeitenden des Kreishauses, des LYZ und von SiWiKultur. | Info: 0271/333-2448 | https://www.siwitermine.de/63038 
UID:siwitermine/63038/2026-04-23  
CLASS:PUBLIC
DTSTART;TZID=Europe/Berlin:20260423T000000Z
DTEND;TZID=Europe/Berlin:20260423T000000Z
DTSTAMP:20260423T133337
END:VEVENT
END:VCALENDAR
