BEGIN:VCALENDAR
METHOD:PUBLISH
X-WR-TIMEZONE:Europe/Berlin
PRODID:https://www.siwitermine.de
CALSCALE:GREGORIAN
VERSION:2.0
BEGIN:VTIMEZONE
TZID:Europe/Berlin
BEGIN:DAYLIGHT
TZOFFSETFROM:+0100
TZOFFSETTO:+0200
DTSTART:19810329T020000
RRULE:FREQ=YEARLY;BYMONTH=3;BYDAY=-1SU
TZNAME:CEST
END:DAYLIGHT
BEGIN:STANDARD
TZOFFSETFROM:+0200
TZOFFSETTO:+0100
DTSTART:19961027T030000
RRULE:FREQ=YEARLY;BYMONTH=10;BYDAY=-1SU
TZNAME:CET
END:STANDARD
END:VTIMEZONE
BEGIN:VEVENT
LOCATION:4Fachwerk Mittendrin Museum Freudenberg | Mittelstraße 4-6
SUMMARY:Ausstellungseröffnung | Ausstellung mit Werken von Victor Lau
DESCRIPTION:Für seine Präsentation in der Freudenberger Altstadt hat Lau den Titel "Paradoxien und anderes" gewählt. Er empfindet es als nur scheinbar widersprüchlich, gegenständliche Motive zu malen, ohne sie realistisch darzustellen. Manche Bilder basieren auf Träumen, die ich dann umgesetzt habe, erklärt der Künstler und stellt die Frage: Wo liegt die Grenze zwischen Traum und Realität? So entstehen unter seiner Hand Werke, die häufig surrealistischen Züge tragen - sowohl im Motiv als auch im Stil. In seinen Ölgemälden setzt er sich gekonnt mit aktuellen Themen auseinander. "Mit Putins Angriffskrieg sind alle Illusionen auf ewigen Frieden geplatzt", erklärt Victor Lau einige seiner politischen Werke. "Spezialoperation" betitelt er ein Bild mit Putin, ein anderes, angelehnt an den James-Bond Film-Titel, "From Russia with Love". Nur vermeintlich steht darin die Friedenstaube im Mittelpunkt, die Patronen am Boden zeigen die wahre Natur. Der 60-jährige Lau ist in Kasachstan geboren, lebte einige Jahre in Kirgistan und in Moldau, was seine Sensibilität für diese Thematik erklärt. Er gehört zudem zu jenen Mitgliedern des Bundes Bildender Künstler (BBK), die sich speziell mit Motiven dem Thema "Menschenrechte" widmen. Symbolhaft zur Umweltsituation sind es beispielsweise Pinguine, die auf einer Eisscholle die untergehende Titanic miterleben. Die Ausstellung in Freudenberg zeigt Werke aus verschiedenen Zeitabschnitten und verdeutlicht die vielfältigen Leitideen seines Schaffens - von Porträts bis zu spirituellen Motiven. Einige Gemälde spiegeln besonders seine Zeit in Worpswede wider. Victor Lau konnte seine Kompositionen schon bei zahlreichen Ausstellungen im In- und Ausland zeigen. Sein Berufsweg begann bodenständig mit einer Ausbildung als Tischler in Kassel. Er besuchte dort die Fachoberschule für Gestaltung. Als Diplom-Kunsttherapeut beendete er sein anschließendes Studium. | Info: 02734/7223 | https://www.siwitermine.de/63022 
UID:siwitermine/63022/2026-04-24  
CLASS:PUBLIC
DTSTART;TZID=Europe/Berlin:20260424T190000
DTEND;TZID=Europe/Berlin:20260424T190000
DTSTAMP:20260422T101547
END:VEVENT
END:VCALENDAR
